BEGIN:VCALENDAR
VERSION:2.0
PRODID:SchoolNow
CALSCALE:GREGORIAN
BEGIN:VEVENT
UID:9e919f50-313d-11ed-a80e-0edbd917d1bd
DTSTAMP:20220910T192428Z
SUMMARY:Yoga - Sept. 20th
LOCATION:Activities Center
URL;VALUE=URI:https://www.wildernesslakecdd.org/calendar/3372428/yoga-sept-
 20th
DTSTART:20220920T134500Z
DTEND:20220920T144500Z
END:VEVENT
END:VCALENDAR
