BEGIN:VCALENDAR
VERSION:2.0
PRODID:SchoolNow
CALSCALE:GREGORIAN
BEGIN:VEVENT
UID:953d3608-313d-11ed-9199-0edbd917d1bd
DTSTAMP:20220910T192136Z
SUMMARY:Yoga - Sept. 15th
LOCATION:Activities Center
URL;VALUE=URI:https://www.wildernesslakecdd.org/calendar/3372427/yoga-sept-
 15th
DTSTART:20220915T124500Z
DTEND:20220915T134500Z
END:VEVENT
END:VCALENDAR
