BEGIN:VCALENDAR
VERSION:2.0
PRODID:SchoolNow
CALSCALE:GREGORIAN
BEGIN:VEVENT
UID:860f6520-313d-11ed-a7a4-0edbd917d1bd
DTSTAMP:20220910T192152Z
SUMMARY:Yoga - Sept. 13th
LOCATION:Activities Center
URL;VALUE=URI:https://www.wildernesslakecdd.org/calendar/3372426/yoga-sept-
 13th
DTSTART:20220913T124500Z
DTEND:20220913T134500Z
END:VEVENT
END:VCALENDAR
