BEGIN:VCALENDAR
VERSION:2.0
PRODID:SchoolNow
CALSCALE:GREGORIAN
BEGIN:VEVENT
UID:fae11b06-313c-11ed-a89c-0edbd917d1bd
DTSTAMP:20220910T191849Z
SUMMARY:Story Time w/Aga - Nov 28
URL;VALUE=URI:https://www.wildernesslakecdd.org/calendar/3372425/story-time
 -w-aga-nov-28
DTSTART:20221128T150000Z
DTEND:20221128T160000Z
END:VEVENT
END:VCALENDAR
