BEGIN:VCALENDAR
VERSION:2.0
PRODID:SchoolNow
CALSCALE:GREGORIAN
BEGIN:VEVENT
UID:ecab28ce-313c-11ed-9caf-0edbd917d1bd
DTSTAMP:20220910T191834Z
SUMMARY:Story Time w/Aga  - Nov 21
URL;VALUE=URI:https://www.wildernesslakecdd.org/calendar/3372424/story-time
 -w-aga-nov-21
DTSTART:20221121T150000Z
DTEND:20221121T160000Z
END:VEVENT
END:VCALENDAR
