BEGIN:VCALENDAR
VERSION:2.0
PRODID:SchoolNow
CALSCALE:GREGORIAN
BEGIN:VEVENT
UID:def21d96-313c-11ed-9939-0edbd917d1bd
DTSTAMP:20220910T191821Z
SUMMARY:Story Time w/Aga  - Nov 14
URL;VALUE=URI:https://www.wildernesslakecdd.org/calendar/3372423/story-time
 -w-aga-nov-14
DTSTART:20221114T150000Z
DTEND:20221114T160000Z
END:VEVENT
END:VCALENDAR
