BEGIN:VCALENDAR
VERSION:2.0
PRODID:SchoolNow
CALSCALE:GREGORIAN
BEGIN:VEVENT
UID:d195d7fa-313c-11ed-8a9e-0edbd917d1bd
DTSTAMP:20220910T191807Z
SUMMARY:Story Time w/Aga - Nov 7
URL;VALUE=URI:https://www.wildernesslakecdd.org/calendar/3372422/story-time
 -w-aga-nov-7
DTSTART:20221107T150000Z
DTEND:20221107T160000Z
END:VEVENT
END:VCALENDAR
