BEGIN:VCALENDAR
VERSION:2.0
PRODID:SchoolNow
CALSCALE:GREGORIAN
BEGIN:VEVENT
UID:c1aa4902-313c-11ed-b03d-0edbd917d1bd
DTSTAMP:20220910T191756Z
SUMMARY:Story Time w/Aga - Oct 31
URL;VALUE=URI:https://www.wildernesslakecdd.org/calendar/3372421/story-time
 -w-aga-oct-31
DTSTART:20221031T140000Z
DTEND:20221031T150000Z
END:VEVENT
END:VCALENDAR
