BEGIN:VCALENDAR
VERSION:2.0
PRODID:SchoolNow
CALSCALE:GREGORIAN
BEGIN:VEVENT
UID:b36e531a-313c-11ed-9773-0edbd917d1bd
DTSTAMP:20220910T191741Z
SUMMARY:Story Time w/Aga - Oct 24
URL;VALUE=URI:https://www.wildernesslakecdd.org/calendar/3372414/story-time
 -w-aga-oct-24
DTSTART:20221024T140000Z
DTEND:20221024T150000Z
END:VEVENT
END:VCALENDAR
