BEGIN:VCALENDAR
VERSION:2.0
PRODID:SchoolNow
CALSCALE:GREGORIAN
BEGIN:VEVENT
UID:aa7a2446-313c-11ed-9a32-0edbd917d1bd
DTSTAMP:20220910T191724Z
SUMMARY:Story Time w/Aga - Oct 17
URL;VALUE=URI:https://www.wildernesslakecdd.org/calendar/3372413/story-time
 -w-aga
DTSTART:20221017T140000Z
DTEND:20221017T150000Z
END:VEVENT
END:VCALENDAR
