BEGIN:VCALENDAR
VERSION:2.0
PRODID:SchoolNow
CALSCALE:GREGORIAN
BEGIN:VEVENT
UID:9c03a4be-313c-11ed-9066-0edbd917d1bd
DTSTAMP:20220910T191712Z
SUMMARY:Story Time w/Aga - Oct 3
URL;VALUE=URI:https://www.wildernesslakecdd.org/calendar/3372412/story-time
 -w-aga-oct-3
DTSTART:20221003T140000Z
DTEND:20221003T150000Z
END:VEVENT
END:VCALENDAR
