BEGIN:VCALENDAR
VERSION:2.0
PRODID:SchoolNow
CALSCALE:GREGORIAN
BEGIN:VEVENT
UID:906abe58-313c-11ed-9b9f-0edbd917d1bd
DTSTAMP:20220910T191658Z
SUMMARY:Story Time w/Aga - Sep 26
URL;VALUE=URI:https://www.wildernesslakecdd.org/calendar/3372411/story-time
 -w-aga
DTSTART:20220926T140000Z
DTEND:20220926T150000Z
END:VEVENT
END:VCALENDAR
