BEGIN:VCALENDAR
VERSION:2.0
PRODID:SchoolNow
CALSCALE:GREGORIAN
BEGIN:VEVENT
UID:84894b68-313c-11ed-8b74-0edbd917d1bd
DTSTAMP:20220910T191640Z
SUMMARY:Story Time w/Aga - Sep 19
URL;VALUE=URI:https://www.wildernesslakecdd.org/calendar/3372410/story-time
 -w-aga-sep-19
DTSTART:20220919T140000Z
DTEND:20220919T150000Z
END:VEVENT
END:VCALENDAR
