BEGIN:VCALENDAR
VERSION:2.0
PRODID:SchoolNow
CALSCALE:GREGORIAN
BEGIN:VEVENT
UID:533ad7b6-313c-11ed-a7f0-0edbd917d1bd
DTSTAMP:20220910T191108Z
SUMMARY:Walking Toning Class - Sept 16th
URL;VALUE=URI:https://www.wildernesslakecdd.org/calendar/3372400/walking-to
 ning-class-sept-16th
DTSTART:20220916T133000Z
DTEND:20220916T144500Z
END:VEVENT
END:VCALENDAR
