BEGIN:VCALENDAR
VERSION:2.0
PRODID:SchoolNow
CALSCALE:GREGORIAN
BEGIN:VEVENT
UID:44ead9c2-313c-11ed-bd39-0edbd917d1bd
DTSTAMP:20220910T191044Z
SUMMARY:Walking Toning Class - Sept 14th
URL;VALUE=URI:https://www.wildernesslakecdd.org/calendar/3372399/walking-to
 ning-class-sept-14th
DTSTART:20220914T133000Z
DTEND:20220914T144500Z
END:VEVENT
END:VCALENDAR
