BEGIN:VCALENDAR
VERSION:2.0
PRODID:SchoolNow
CALSCALE:GREGORIAN
BEGIN:VEVENT
UID:1edfb220-313c-11ed-90bb-0edbd917d1bd
DTSTAMP:20220910T190940Z
SUMMARY:Water Aerobics - Sept. 16th
URL;VALUE=URI:https://www.wildernesslakecdd.org/calendar/3372398/water-aero
 bics-sept-16th
DTSTART:20220916T130000Z
DTEND:20220916T140000Z
END:VEVENT
END:VCALENDAR
