BEGIN:VCALENDAR
VERSION:2.0
PRODID:SchoolNow
CALSCALE:GREGORIAN
BEGIN:VEVENT
UID:094cba8e-313c-11ed-b0ab-0edbd917d1bd
DTSTAMP:20220910T190904Z
SUMMARY:Water Aerobics - Sept. 14th
URL;VALUE=URI:https://www.wildernesslakecdd.org/calendar/3372397/water-aero
 bics-sept-14th
DTSTART:20220914T130000Z
DTEND:20220914T140000Z
END:VEVENT
END:VCALENDAR
