BEGIN:VCALENDAR
VERSION:2.0
PRODID:SchoolNow
CALSCALE:GREGORIAN
BEGIN:VEVENT
UID:fcceecf0-313b-11ed-a7e6-0edbd917d1bd
DTSTAMP:20220910T190843Z
SUMMARY:Water Aerobics - Sept. 13th
URL;VALUE=URI:https://www.wildernesslakecdd.org/calendar/3372396/water-aero
 bics-sept-13th
DTSTART:20220913T130000Z
DTEND:20220913T140000Z
END:VEVENT
END:VCALENDAR
