BEGIN:VCALENDAR
VERSION:2.0
PRODID:SchoolNow
CALSCALE:GREGORIAN
BEGIN:VEVENT
UID:ea1c5f5c-313b-11ed-8757-0edbd917d1bd
DTSTAMP:20220910T190811Z
SUMMARY:Water Aerobics - Sept. 12th
URL;VALUE=URI:https://www.wildernesslakecdd.org/calendar/3372395/water-aero
 bics-sept-12th
DTSTART:20220912T130000Z
DTEND:20220912T140000Z
END:VEVENT
END:VCALENDAR
