BEGIN:VCALENDAR
VERSION:2.0
PRODID:SchoolNow
CALSCALE:GREGORIAN
BEGIN:VEVENT
UID:b883006e-313a-11ed-b775-0a5e96f634e5
DTSTAMP:20220910T185939Z
SUMMARY:Walking Toning Class - Oct. 28th
URL;VALUE=URI:https://www.wildernesslakecdd.org/calendar/3372394/walking-to
 ning-class-oct-28th
DTSTART:20221028T133000Z
DTEND:20221028T144500Z
END:VEVENT
END:VCALENDAR
