BEGIN:VCALENDAR
VERSION:2.0
PRODID:SchoolNow
CALSCALE:GREGORIAN
BEGIN:VEVENT
UID:a89f878a-313a-11ed-b26f-0a5e96f634e5
DTSTAMP:20220910T185912Z
SUMMARY:Walking Toning Class - Oct. 26th
URL;VALUE=URI:https://www.wildernesslakecdd.org/calendar/3372393/walking-to
 ning-class-oct-26th
DTSTART:20221026T133000Z
DTEND:20221026T144500Z
END:VEVENT
END:VCALENDAR
