BEGIN:VCALENDAR
VERSION:2.0
PRODID:SchoolNow
CALSCALE:GREGORIAN
BEGIN:VEVENT
UID:9bf2cd6c-313a-11ed-8528-0a5e96f634e5
DTSTAMP:20220910T185851Z
SUMMARY:Walking Toning Class - Oct. 24th
URL;VALUE=URI:https://www.wildernesslakecdd.org/calendar/3372392/walking-to
 ning-class-oct-24th
DTSTART:20221024T133000Z
DTEND:20221024T144500Z
END:VEVENT
END:VCALENDAR
