BEGIN:VCALENDAR
VERSION:2.0
PRODID:SchoolNow
CALSCALE:GREGORIAN
BEGIN:VEVENT
UID:7a2427e4-313a-11ed-8c58-0a5e96f634e5
DTSTAMP:20220910T185811Z
SUMMARY:Walking Toning Class - Oct. 21st
URL;VALUE=URI:https://www.wildernesslakecdd.org/calendar/3372391/walking-to
 ning-class-oct-21st
DTSTART:20221021T133000Z
DTEND:20221021T144500Z
END:VEVENT
END:VCALENDAR
