BEGIN:VCALENDAR
VERSION:2.0
PRODID:SchoolNow
CALSCALE:GREGORIAN
BEGIN:VEVENT
UID:6ff101d4-313a-11ed-8f2d-0a5e96f634e5
DTSTAMP:20220910T185737Z
SUMMARY:Walking Toning Class - Oct. 19th
URL;VALUE=URI:https://www.wildernesslakecdd.org/calendar/3372390/walking-to
 ning-class-oct-19th
DTSTART:20221019T133000Z
DTEND:20221019T144500Z
END:VEVENT
END:VCALENDAR
