BEGIN:VCALENDAR
VERSION:2.0
PRODID:SchoolNow
CALSCALE:GREGORIAN
BEGIN:VEVENT
UID:477ee04a-313a-11ed-afd0-0a5e96f634e5
DTSTAMP:20220910T185629Z
SUMMARY:Walking Toning Class - Oct. 14th
URL;VALUE=URI:https://www.wildernesslakecdd.org/calendar/3372389/walking-to
 ning-class-oct-14th
DTSTART:20221014T133000Z
DTEND:20221014T144500Z
END:VEVENT
END:VCALENDAR
