BEGIN:VCALENDAR
VERSION:2.0
PRODID:SchoolNow
CALSCALE:GREGORIAN
BEGIN:VEVENT
UID:33d5f81c-313a-11ed-9fdc-0a5e96f634e5
DTSTAMP:20220910T185556Z
SUMMARY:Walking Toning Class - Oct. 12th
URL;VALUE=URI:https://www.wildernesslakecdd.org/calendar/3372388/walking-to
 ning-class-oct-12th
DTSTART:20221012T133000Z
DTEND:20221012T144500Z
END:VEVENT
END:VCALENDAR
