BEGIN:VCALENDAR
VERSION:2.0
PRODID:SchoolNow
CALSCALE:GREGORIAN
BEGIN:VEVENT
UID:219210d2-313a-11ed-b106-0a5e96f634e5
DTSTAMP:20220910T185525Z
SUMMARY:Walking Toning Class - Oct. 7th
URL;VALUE=URI:https://www.wildernesslakecdd.org/calendar/3372387/walking-to
 ning-class-oct-7th
DTSTART:20221007T133000Z
DTEND:20221007T144500Z
END:VEVENT
END:VCALENDAR
