BEGIN:VCALENDAR
VERSION:2.0
PRODID:SchoolNow
CALSCALE:GREGORIAN
BEGIN:VEVENT
UID:0fb4cf12-313a-11ed-a980-0a5e96f634e5
DTSTAMP:20220910T185505Z
SUMMARY:Walking Toning Class - Oct. 5th
URL;VALUE=URI:https://www.wildernesslakecdd.org/calendar/3372386/walking-to
 ning-class-oct-5th
DTSTART:20221005T133000Z
DTEND:20221005T144500Z
END:VEVENT
END:VCALENDAR
