BEGIN:VCALENDAR
VERSION:2.0
PRODID:SchoolNow
CALSCALE:GREGORIAN
BEGIN:VEVENT
UID:01f407da-313a-11ed-8a79-0a5e96f634e5
DTSTAMP:20220910T185432Z
SUMMARY:Walking Toning Class - Oct. 3rd
URL;VALUE=URI:https://www.wildernesslakecdd.org/calendar/3372385/walking-to
 ning-class-oct-3rd
DTSTART:20221003T133000Z
DTEND:20221003T144500Z
END:VEVENT
END:VCALENDAR
