BEGIN:VCALENDAR
VERSION:2.0
PRODID:SchoolNow
CALSCALE:GREGORIAN
BEGIN:VEVENT
UID:be7e1748-3139-11ed-9f2a-0a5e96f634e5
DTSTAMP:20220910T185239Z
SUMMARY:Walking Toning Class - Sept 26th
URL;VALUE=URI:https://www.wildernesslakecdd.org/calendar/3372382/walking-to
 ning-class-sept-26th
DTSTART:20220926T133000Z
DTEND:20220926T144500Z
END:VEVENT
END:VCALENDAR
