BEGIN:VCALENDAR
VERSION:2.0
PRODID:SchoolNow
CALSCALE:GREGORIAN
BEGIN:VEVENT
UID:afd5f6e8-3139-11ed-b27e-0a5e96f634e5
DTSTAMP:20220910T185215Z
SUMMARY:Walking Toning Class - Sept 23rd
URL;VALUE=URI:https://www.wildernesslakecdd.org/calendar/3372381/walking-to
 ning-class-sept-23rd
DTSTART:20220923T133000Z
DTEND:20220923T144500Z
END:VEVENT
END:VCALENDAR
