BEGIN:VCALENDAR
VERSION:2.0
PRODID:SchoolNow
CALSCALE:GREGORIAN
BEGIN:VEVENT
UID:9f56f114-3139-11ed-a706-0a5e96f634e5
DTSTAMP:20220910T185147Z
SUMMARY:Walking Toning Class - Sept 21st
URL;VALUE=URI:https://www.wildernesslakecdd.org/calendar/3372380/walking-to
 ning-class-sept-21st
DTSTART:20220921T133000Z
DTEND:20220921T144500Z
END:VEVENT
END:VCALENDAR
