BEGIN:VCALENDAR
VERSION:2.0
PRODID:SchoolNow
CALSCALE:GREGORIAN
BEGIN:VEVENT
UID:514a2dd8-3139-11ed-abb2-0a5e96f634e5
DTSTAMP:20220910T185057Z
SUMMARY:Walking Toning Class - Sept 19th
URL;VALUE=URI:https://www.wildernesslakecdd.org/calendar/3372379/walking-to
 ning-class-sept-19th
DTSTART:20220919T133000Z
DTEND:20220919T144500Z
END:VEVENT
END:VCALENDAR
