BEGIN:VCALENDAR
VERSION:2.0
PRODID:SchoolNow
CALSCALE:GREGORIAN
BEGIN:VEVENT
UID:3cd0fa12-3139-11ed-91e8-0a5e96f634e5
DTSTAMP:20220910T185050Z
SUMMARY:Walking Toning Class - Sept 12th
URL;VALUE=URI:https://www.wildernesslakecdd.org/calendar/3372378/walking-to
 ning-class-sept-12th
DTSTART:20220912T133000Z
DTEND:20220912T144500Z
END:VEVENT
END:VCALENDAR
