BEGIN:VCALENDAR
VERSION:2.0
PRODID:SchoolNow
CALSCALE:GREGORIAN
BEGIN:VEVENT
UID:08ba07d2-3139-11ed-9869-0a5e96f634e5
DTSTAMP:20220910T234345Z
SUMMARY:Tennis Class w/Mr. Watson - Sept. 10th
URL;VALUE=URI:https://www.wildernesslakecdd.org/calendar/3372377/tennis-cla
 ss-w-mr-watson-sept-10th
DTSTART:20220910T130000Z
DTEND:20220910T150000Z
END:VEVENT
END:VCALENDAR
