BEGIN:VCALENDAR
VERSION:2.0
PRODID:SchoolNow
CALSCALE:GREGORIAN
BEGIN:VEVENT
UID:de958b7a-3138-11ed-a3e1-0a5e96f634e5
DTSTAMP:20220910T184624Z
SUMMARY:Art Class w/Mr. Joe
URL;VALUE=URI:https://www.wildernesslakecdd.org/calendar/3372376/art-class-
 w-mr-joe
DTSTART:20220910T130000Z
DTEND:20220910T150000Z
END:VEVENT
END:VCALENDAR
