BEGIN:VCALENDAR
VERSION:2.0
PRODID:SchoolNow
CALSCALE:GREGORIAN
BEGIN:VEVENT
UID:ee1956c2-27c3-11ed-b2f5-0283ed110729
DTSTAMP:20220829T175638Z
SUMMARY:Water Aerobics - Monday\, August 29
LOCATION:Lap Pool
URL;VALUE=URI:https://www.wildernesslakecdd.org/calendar/3313363/water-aero
 bics-monday-august-29
DTSTART:20220829T130000Z
DTEND:20220829T140000Z
END:VEVENT
END:VCALENDAR
