BEGIN:VCALENDAR
VERSION:2.0
PRODID:SchoolNow
CALSCALE:GREGORIAN
BEGIN:VEVENT
UID:bba8a0b2-27c3-11ed-9013-0283ed110729
DTSTAMP:20220829T175513Z
SUMMARY:Labor Day Pool Party
URL;VALUE=URI:https://www.wildernesslakecdd.org/calendar/3313362/labor-day-
 pool-party
DTSTART:20220903T170000Z
DTEND:20220903T200000Z
END:VEVENT
END:VCALENDAR
