BEGIN:VCALENDAR
VERSION:2.0
PRODID:SchoolNow
CALSCALE:GREGORIAN
BEGIN:VEVENT
UID:9b9dfb32-27c3-11ed-95f5-0283ed110729
DTSTAMP:20220829T180230Z
SUMMARY:Karaoke Night - Friday\, September 2
URL;VALUE=URI:https://www.wildernesslakecdd.org/calendar/3313361/karaoke-ni
 ght-friday-september-2
DTSTART:20220902T220000Z
DTEND:20220903T010000Z
END:VEVENT
END:VCALENDAR
