BEGIN:VCALENDAR
VERSION:2.0
PRODID:SchoolNow
CALSCALE:GREGORIAN
BEGIN:VEVENT
UID:5e1ce17e-27c3-11ed-a2d5-0283ed110729
DTSTAMP:20220910T215141Z
SUMMARY:Food Truck -  Aug. 31
LOCATION:Outside Lodge near Playground
URL;VALUE=URI:https://www.wildernesslakecdd.org/calendar/3313360/food-truck
 -aug-31
DTSTART:20220831T210000Z
DTEND:20220901T000000Z
END:VEVENT
END:VCALENDAR
