BEGIN:VCALENDAR
VERSION:2.0
PRODID:SchoolNow
CALSCALE:GREGORIAN
BEGIN:VEVENT
UID:40395912-27c3-11ed-b37a-0283ed110729
DTSTAMP:20220910T214015Z
SUMMARY:Women's Bible Study - Aug. 31
LOCATION:Theatre
URL;VALUE=URI:https://www.wildernesslakecdd.org/calendar/3313359/womens-bib
 le-study-aug-31
DTSTART:20220831T140000Z
DTEND:20220831T150000Z
END:VEVENT
END:VCALENDAR
