BEGIN:VCALENDAR
VERSION:2.0
PRODID:SchoolNow
CALSCALE:GREGORIAN
BEGIN:VEVENT
UID:f1e5ebcc-27c2-11ed-9b34-0283ed110729
DTSTAMP:20220829T174935Z
SUMMARY:Yoga - Thursday\, September 1
LOCATION:Activities Center
URL;VALUE=URI:https://www.wildernesslakecdd.org/calendar/3313356/yoga-thurs
 day-september-1
DTSTART:20220901T124500Z
DTEND:20220901T134500Z
END:VEVENT
END:VCALENDAR
