BEGIN:VCALENDAR
VERSION:2.0
PRODID:SchoolNow
CALSCALE:GREGORIAN
BEGIN:VEVENT
UID:c6b666e8-27c2-11ed-bcb8-0283ed110729
DTSTAMP:20220829T174822Z
SUMMARY:Yoga - Tuesday\, August 30
LOCATION:Activities Center
URL;VALUE=URI:https://www.wildernesslakecdd.org/calendar/3313354/yoga-tuesd
 ay-august-30
DTSTART:20220830T124500Z
DTEND:20220830T134500Z
END:VEVENT
END:VCALENDAR
