BEGIN:VCALENDAR
VERSION:2.0
PRODID:SchoolNow
CALSCALE:GREGORIAN
BEGIN:VEVENT
UID:a777a184-27c2-11ed-8141-0283ed110729
DTSTAMP:20220829T174730Z
SUMMARY:Join us for Story Time with Songs\, Snacks\, and More! - Monday\, A
 ugust 29
LOCATION:Nature Center
URL;VALUE=URI:https://www.wildernesslakecdd.org/calendar/3313352/join-us-fo
 r-story-time-with-songs-snacks-and-more-monday-august-29
DTSTART:20220829T140000Z
DTEND:20220829T150000Z
END:VEVENT
END:VCALENDAR
