BEGIN:VCALENDAR
VERSION:2.0
PRODID:SchoolNow
CALSCALE:GREGORIAN
BEGIN:VEVENT
UID:855f7734-27c2-11ed-83e8-0283ed110729
DTSTAMP:20220829T174633Z
SUMMARY:Walking\, Toning\, and Strengthening Class - Friday\, September 2
LOCATION:Activities Center
URL;VALUE=URI:https://www.wildernesslakecdd.org/calendar/3313350/walking-to
 ning-and-strengthening-class-friday-september-2
DTSTART:20220902T133000Z
DTEND:20220902T144500Z
END:VEVENT
END:VCALENDAR
