BEGIN:VCALENDAR
VERSION:2.0
PRODID:SchoolNow
CALSCALE:GREGORIAN
BEGIN:VEVENT
UID:7765fb30-27c2-11ed-85fa-0283ed110729
DTSTAMP:20220829T174609Z
SUMMARY:Walking\, Toning\, and Strengthening Class - Wednesday\, August 31
LOCATION:Activities Center
URL;VALUE=URI:https://www.wildernesslakecdd.org/calendar/3313349/walking-to
 ning-and-strengthening-class-wednesday-august-31
DTSTART:20220831T133000Z
DTEND:20220831T144500Z
END:VEVENT
END:VCALENDAR
