BEGIN:VCALENDAR
VERSION:2.0
PRODID:SchoolNow
CALSCALE:GREGORIAN
BEGIN:VEVENT
UID:6a7429d8-27c2-11ed-9de8-0283ed110729
DTSTAMP:20220829T174548Z
SUMMARY:Walking\, Toning\, and Strengthening Class - Monday\, August 29
LOCATION:Activities Center
URL;VALUE=URI:https://www.wildernesslakecdd.org/calendar/3313348/walking-to
 ning-and-strengthening-class-monday-august-29
DTSTART:20220829T133000Z
DTEND:20220829T144500Z
END:VEVENT
END:VCALENDAR
