BEGIN:VCALENDAR
VERSION:2.0
PRODID:SchoolNow
CALSCALE:GREGORIAN
BEGIN:VEVENT
UID:30c42760-27c2-11ed-8593-0283ed110729
DTSTAMP:20220829T174411Z
SUMMARY:Water Aerobics - Friday\, September 2
LOCATION:Lap Pool
URL;VALUE=URI:https://www.wildernesslakecdd.org/calendar/3313345/water-aero
 bics-monday-august-31-clone
DTSTART:20220902T130000Z
DTEND:20220902T140000Z
END:VEVENT
END:VCALENDAR
