BEGIN:VCALENDAR
VERSION:2.0
PRODID:SchoolNow
CALSCALE:GREGORIAN
BEGIN:VEVENT
UID:1b733cde-27c2-11ed-8e92-0283ed110729
DTSTAMP:20220829T174433Z
SUMMARY:Water Aerobics - Wednesday\, August 31
LOCATION:Lap Pool
URL;VALUE=URI:https://www.wildernesslakecdd.org/calendar/3313344/water-aero
 bics-monday-august-31
DTSTART:20220831T130000Z
DTEND:20220831T140000Z
END:VEVENT
END:VCALENDAR
