BEGIN:VCALENDAR
VERSION:2.0
PRODID:SchoolNow
CALSCALE:GREGORIAN
BEGIN:VEVENT
UID:1321c604-27c2-11ed-b2f5-0283ed110729
DTSTAMP:20220829T174455Z
SUMMARY:Water Aerobics - Tuesday\, August 30
LOCATION:Lap Pool
URL;VALUE=URI:https://www.wildernesslakecdd.org/calendar/3313342/water-aero
 bics-tuesday-august-30
DTSTART:20220830T130000Z
DTEND:20220830T140000Z
END:VEVENT
END:VCALENDAR
